BEGIN:VCALENDAR
VERSION:2.0
PRODID:Events Booking
BEGIN:VEVENT
UID:69e4d9c44569b
SUMMARY:Weihnachtsgottesdienst
DESCRIPTION:
DTSTART:20241224T143000Z
DTSTAMP:20240914T130141Z
ORGANIZER;CN=EFG Chemnitz:MAILTO:info@efg-chemnitz.de
END:VEVENT
END:VCALENDAR