BEGIN:VCALENDAR
VERSION:2.0
PRODID:Events Booking
BEGIN:VEVENT
UID:69e7da3182391
SUMMARY:Seniorennachmittag
DESCRIPTION:
DTSTART:20240408T123000Z
DTSTAMP:20240406T180641Z
ORGANIZER;CN=EFG Chemnitz:MAILTO:info@efg-chemnitz.de
END:VEVENT
END:VCALENDAR