BEGIN:VCALENDAR
VERSION:2.0
PRODID:Events Booking
BEGIN:VEVENT
UID:69e4da71efe40
SUMMARY:Predigtgottesdienst (mit Abendmahl)
DESCRIPTION:
DTSTART:20231231T090000Z
DTSTAMP:20231214T191249Z
ORGANIZER;CN=EFG Chemnitz:MAILTO:info@efg-chemnitz.de
END:VEVENT
END:VCALENDAR