BEGIN:VCALENDAR
VERSION:2.0
PRODID:Events Booking
BEGIN:VEVENT
UID:69e4efa53e3f3
SUMMARY:Live-Gottesdienstübertragung vom Hoffnungsfestival aus Karlsruhe
DESCRIPTION:VERSÖHNT LEBEN&nbsp\;
 mit mir und anderen klarkommen
 live 
 aus Karlsruhe mit&nbsp\;Sibylle Beck\, Déborah Rosenkranz und Tobias Kley
 
 Mehr Informationen zu diesem Online-Gottesdienst hier..
LOCATION:Goetheplatz 5\, Chemnitz\, 09119 Sachsen\, Deutschland
DTSTART:20250525T080000Z
DTSTAMP:20241219T183618Z
ORGANIZER;CN=EFG Chemnitz:MAILTO:info@efg-chemnitz.de
GEO:50.821549;12.908554
X-APPLE-STRUCTURED-LOCATION;VALUE=URI;X-ADDRESS=Goetheplatz 5\, Chemnitz\, 
 09119 Sachsen\, Deutschland;X-APPLE-RADIUS=72;X-TITLE=Gemeindehaus EFG Che
 mnitz:50.821549;12.908554
END:VEVENT
END:VCALENDAR