BEGIN:VCALENDAR
VERSION:2.0
PRODID:Events Booking
BEGIN:VEVENT
UID:69e4dbf575ff0
SUMMARY:Gottesdienst mit der Baptistengemeinde auf der Kanzlerstraße
DESCRIPTION:Gemeinsamer Gottesdienst mit den Geschwistern der Baptistengeme
 inde auf der Kanzlerstraße 10.Es findet an diesem Sonntag kein Gottesdien
 st auf dem Goetheplatz statt!
DTSTART:20251116T090000Z
DTSTAMP:20241219T183618Z
ORGANIZER;CN=EFG Chemnitz:MAILTO:info@efg-chemnitz.de
END:VEVENT
END:VCALENDAR