BEGIN:VCALENDAR
VERSION:2.0
PRODID:Events Booking
BEGIN:VEVENT
UID:69e4dbf54f7f7
SUMMARY:Predigtgottesdienst für Familien (mit Abendmahl)
DESCRIPTION:Hat die Wissenschaft den Schöpfungsbericht widerlegt?
 Eine e
 vangelistische Predigt
 Referent: Benjamin Scholl (Wort und Wissen)
 Ein
 e evangelistische Predigt über Hinweise zur Gültigkeit des Schöpfungsbe
 richtes anhand von ausgewählten Bibelstellen aus Genesis 1 bis 3. Die Pre
 digt ist ganz bewusst auch für Nichtchristen und junge Leute geeignet und
  endet mit dem Sündenfall und dem Protoevangelium aus 1Mo 3\,15f.
 Von 1
 3.00 bis ca 14.30. Uhr gibt es zusätzlich noch einen Vortrag über Fossil
 ien und die Möglichkeit\, Fragen zu stellen.
 &nbsp\;
LOCATION:Goetheplatz 5\, Chemnitz\, 09119 Sachsen\, Deutschland
DTSTART:20250202T090000Z
DTSTAMP:20241219T183618Z
ORGANIZER;CN=EFG Chemnitz:MAILTO:info@efg-chemnitz.de
GEO:50.821549;12.908554
X-APPLE-STRUCTURED-LOCATION;VALUE=URI;X-ADDRESS=Goetheplatz 5\, Chemnitz\, 
 09119 Sachsen\, Deutschland;X-APPLE-RADIUS=72;X-TITLE=Gemeindehaus EFG Che
 mnitz:50.821549;12.908554
END:VEVENT
END:VCALENDAR