BEGIN:VCALENDAR
VERSION:2.0
PRODID:Events Booking
BEGIN:VEVENT
UID:69e4dba1cd592
SUMMARY:Open-Air-Gottesdienst in Neuwürschnitz
DESCRIPTION:Achtung: Der Gottesdienst findet an diesem Tag NICHT im Gemeind
 ehaus in Chemnitz statt. Wir treffen uns stattdessen am Waldbad Neuschwüs
 chnitz (Freilichtbühne)\, um dort zum Abschluss des Unterwegskurses 2024/
 25 mit Absolventen\, ihren Gästen und den Christen verschiedener Gemeinde
 n der Umgebung gemeinsam Gottesdienst zu feiern. Unser Gastgeber ist das C
 hristlichen Bildungszentrum Erzgebirge (CBE).
LOCATION:Oelsnitz/Erzgebirge\, 09376 Sachsen\, Deutschland
DTSTART:20250629T080000Z
DTEND:20250629T093000Z
DTSTAMP:20241219T183618Z
ORGANIZER;CN=EFG Chemnitz:MAILTO:info@efg-chemnitz.de
GEO:50.703331;12.719109
X-APPLE-STRUCTURED-LOCATION;VALUE=URI;X-ADDRESS=Oelsnitz/Erzgebirge\, 09376
  Sachsen\, Deutschland;X-APPLE-RADIUS=72;X-TITLE=Waldbad Neuwürschnitz:50
 .703331;12.719109
END:VEVENT
END:VCALENDAR