BEGIN:VCALENDAR
VERSION:2.0
PRODID:Events Booking
BEGIN:VEVENT
UID:69e4c3641b020
SUMMARY:Kids-Treff
DESCRIPTION:
DTSTART:20240406T143000Z
DTSTAMP:20240329T131853Z
ORGANIZER;CN=EFG Chemnitz:MAILTO:info@efg-chemnitz.de
END:VEVENT
END:VCALENDAR