BEGIN:VCALENDAR
VERSION:2.0
PRODID:Events Booking
BEGIN:VEVENT
UID:69e7c465246b1
SUMMARY:Jugendtreff
DESCRIPTION:
DTSTART:20240411T170000Z
DTSTAMP:20240406T180727Z
ORGANIZER;CN=EFG Chemnitz:MAILTO:info@efg-chemnitz.de
END:VEVENT
END:VCALENDAR