BEGIN:VCALENDAR
VERSION:2.0
PRODID:Events Booking
BEGIN:VEVENT
UID:69e7c3f0ce6a9
SUMMARY:Jugendtreff
DESCRIPTION:
DTSTART:20240426T170000Z
DTSTAMP:20240406T180840Z
ORGANIZER;CN=EFG Chemnitz:MAILTO:info@efg-chemnitz.de
END:VEVENT
END:VCALENDAR