BEGIN:VCALENDAR
VERSION:2.0
PRODID:Events Booking
BEGIN:VEVENT
UID:69e7c6461af0f
SUMMARY:Jugendtreff
DESCRIPTION:
DTSTART:20240418T170000Z
DTSTAMP:20240406T180751Z
ORGANIZER;CN=EFG Chemnitz:MAILTO:info@efg-chemnitz.de
END:VEVENT
END:VCALENDAR