BEGIN:VCALENDAR
VERSION:2.0
PRODID:Events Booking
BEGIN:VEVENT
UID:69e4c4e0746dc
SUMMARY:Hoffnungsfestival
DESCRIPTION:FOKUSSIERT LEBENWofür es sich zu leben lohnt
 live aus Karlsr
 uhe mit Sibylle Beck\, Steffen Kern\, Diana Ezerex und Mr. Joy
LOCATION:Goetheplatz 5\, Chemnitz\, 09119 Sachsen\, Deutschland
DTSTART:20250526T160000Z
DTSTAMP:20250226T002214Z
ORGANIZER;CN=EFG Chemnitz:MAILTO:info@efg-chemnitz.de
GEO:50.821549;12.908554
X-APPLE-STRUCTURED-LOCATION;VALUE=URI;X-ADDRESS=Goetheplatz 5\, Chemnitz\, 
 09119 Sachsen\, Deutschland;X-APPLE-RADIUS=72;X-TITLE=Gemeindehaus EFG Che
 mnitz:50.821549;12.908554
END:VEVENT
END:VCALENDAR