BEGIN:VCALENDAR
VERSION:2.0
PRODID:Events Booking
BEGIN:VEVENT
UID:69e4c4e120cd4
SUMMARY:Hoffnungsfestival
DESCRIPTION:ZUVERSICHTLICH LEBENWeil der Tod nicht das Ende ist
 live aus 
 Karlsruhe mit Andreas Boppart\, Judy Bailey und Johannes Mickenbecker
LOCATION:Goetheplatz 5\, Chemnitz\, 09119 Sachsen\, Deutschland
DTSTART:20250525T160000Z
DTSTAMP:20250226T002214Z
ORGANIZER;CN=EFG Chemnitz:MAILTO:info@efg-chemnitz.de
GEO:50.821549;12.908554
X-APPLE-STRUCTURED-LOCATION;VALUE=URI;X-ADDRESS=Goetheplatz 5\, Chemnitz\, 
 09119 Sachsen\, Deutschland;X-APPLE-RADIUS=72;X-TITLE=Gemeindehaus EFG Che
 mnitz:50.821549;12.908554
END:VEVENT
END:VCALENDAR