BEGIN:VCALENDAR
VERSION:2.0
PRODID:Events Booking
BEGIN:VEVENT
UID:69e4c4e220f3c
SUMMARY:Hoffnungsfestival
DESCRIPTION:HOFFNUNGSVOLL LEBENWie du emotional gesund durch Krisen kommst
 
 live aus Karlsruhe mit Andreas Boppart\, Tony Rinaudo und Yassir Eric
LOCATION:Goetheplatz 5\, Chemnitz\, 09119 Sachsen\, Deutschland
DTSTART:20250523T160000Z
DTSTAMP:20250226T002214Z
ORGANIZER;CN=EFG Chemnitz:MAILTO:info@efg-chemnitz.de
GEO:50.821549;12.908554
X-APPLE-STRUCTURED-LOCATION;VALUE=URI;X-ADDRESS=Goetheplatz 5\, Chemnitz\, 
 09119 Sachsen\, Deutschland;X-APPLE-RADIUS=72;X-TITLE=Gemeindehaus EFG Che
 mnitz:50.821549;12.908554
END:VEVENT
END:VCALENDAR