BEGIN:VCALENDAR
VERSION:2.0
PRODID:Events Booking
BEGIN:VEVENT
UID:69e4dadf3a04a
SUMMARY:REGIONALER GOTTESDIENST IN NEUWÜRSCHNITZ
DESCRIPTION:Abschlussgottesdienst vom Jüngerschaftsprogramm UNTERWEGS vom 
 Christlichen Bildungszentrum Erzgebirge (CBE)
LOCATION:Oelsnitz/Erzgebirge\, 09376 Sachsen\, Deutschland
DTSTART:20240630T080000Z
DTEND:20240630T093000Z
DTSTAMP:20231221T052538Z
ORGANIZER;CN=EFG Chemnitz:MAILTO:info@efg-chemnitz.de
GEO:50.703331;12.719109
X-APPLE-STRUCTURED-LOCATION;VALUE=URI;X-ADDRESS=Oelsnitz/Erzgebirge\, 09376
  Sachsen\, Deutschland;X-APPLE-RADIUS=72;X-TITLE=Waldbad Neuwürschnitz:50
 .703331;12.719109
END:VEVENT
END:VCALENDAR