BEGIN:VCALENDAR
VERSION:2.0
PRODID:Events Booking
BEGIN:VEVENT
UID:69e4db3323c8a
SUMMARY:Gottesdienst mit Predigt
DESCRIPTION:Gemeindewochenende in Rathen
 Vor Ort in Chemnitz findet aber 
 auch einen Gottesdienst statt.&nbsp\;
LOCATION:Goetheplatz 5\, Chemnitz\, 09119 Sachsen\, Deutschland
DTSTART:20240526T080000Z
DTEND:20240526T093000Z
DTSTAMP:20231221T052538Z
ORGANIZER;CN=EFG Chemnitz:MAILTO:info@efg-chemnitz.de
GEO:50.821549;12.908554
X-APPLE-STRUCTURED-LOCATION;VALUE=URI;X-ADDRESS=Goetheplatz 5\, Chemnitz\, 
 09119 Sachsen\, Deutschland;X-APPLE-RADIUS=72;X-TITLE=Gemeindehaus EFG Che
 mnitz:50.821549;12.908554
END:VEVENT
END:VCALENDAR