BEGIN:VCALENDAR
VERSION:2.0
PRODID:Events Booking
BEGIN:VEVENT
UID:69e4db56e0f40
SUMMARY:Weihnachtsgottesdienst
DESCRIPTION:
DTSTART:20231224T143000Z
DTEND:20231224T153000Z
DTSTAMP:20231202T083342Z
ORGANIZER;CN=EFG Chemnitz:MAILTO:info@efg-chemnitz.de
END:VEVENT
END:VCALENDAR