BEGIN:VCALENDAR
VERSION:2.0
PRODID:Events Booking
BEGIN:VEVENT
UID:69e4c4103f539
SUMMARY:Frauenmosaik
DESCRIPTION:
DTSTART:20240423T073000Z
DTSTAMP:20240406T180826Z
ORGANIZER;CN=EFG Chemnitz:MAILTO:info@efg-chemnitz.de
END:VEVENT
END:VCALENDAR