BEGIN:VCALENDAR
VERSION:2.0
PRODID:Events Booking
BEGIN:VEVENT
UID:69e4c4eb32375
SUMMARY:Familiengottesdienst mit Kurzpredigt und Abendmahl
DESCRIPTION:
DTSTART:20240107T090000Z
DTSTAMP:20231214T192453Z
ORGANIZER;CN=EFG Chemnitz:MAILTO:info@efg-chemnitz.de
END:VEVENT
END:VCALENDAR