BEGIN:VCALENDAR
VERSION:2.0
PRODID:Events Booking
BEGIN:VEVENT
UID:69e4c365e6a44
SUMMARY:Bibelstunde
DESCRIPTION:
DTSTART:20240103T183000Z
DTSTAMP:20231214T191704Z
ORGANIZER;CN=EFG Chemnitz:MAILTO:info@efg-chemnitz.de
END:VEVENT
END:VCALENDAR