BEGIN:VCALENDAR
VERSION:2.0
PRODID:Events Booking
BEGIN:VEVENT
UID:69e4d9c326747
SUMMARY:Bibelstunde
DESCRIPTION:
DTSTART:20231227T183000Z
DTSTAMP:20231214T191007Z
ORGANIZER;CN=EFG Chemnitz:MAILTO:info@efg-chemnitz.de
END:VEVENT
END:VCALENDAR