BEGIN:VCALENDAR
VERSION:2.0
PRODID:Events Booking
BEGIN:VEVENT
UID:69e4ef127ae1f
SUMMARY:Bibelstunde
DESCRIPTION:
DTSTART:20260218T183000Z
DTSTAMP:20251213T212115Z
ORGANIZER;CN=EFG Chemnitz:MAILTO:info@efg-chemnitz.de
END:VEVENT
END:VCALENDAR