BEGIN:VCALENDAR
VERSION:2.0
PRODID:Events Booking
BEGIN:VEVENT
UID:69eb431e6bcd2
SUMMARY:GENERATION Z - ein Infoabend mit Karsten Schwarz
DESCRIPTION:Seminar zum Thema&nbsp\; \"Next Generation- Chancen\, Probleme 
 und Einflüsse\"
 Für alle Eltern\, Großeltern und diejenigen\, die mit
  Jugendlichen zu tun haben!
 Soziale Medien wollen Menschen vorschreiben\
 , wie sie zu leben haben. Welchen Einfluss hat das auf den Umgang mit Sexu
 alität\, sozialen Medien und letztlich auf die Identität? Und wie sollte
 n wir darauf reagieren?
LOCATION:Goetheplatz 5\, Chemnitz\, 09119 Sachsen\, Deutschland
DTSTART:20250212T183000Z
DTSTAMP:20241219T183743Z
ORGANIZER;CN=EFG Chemnitz:MAILTO:info@efg-chemnitz.de
GEO:50.821549;12.908554
X-APPLE-STRUCTURED-LOCATION;VALUE=URI;X-ADDRESS=Goetheplatz 5\, Chemnitz\, 
 09119 Sachsen\, Deutschland;X-APPLE-RADIUS=72;X-TITLE=Gemeindehaus EFG Che
 mnitz:50.821549;12.908554
END:VEVENT
END:VCALENDAR