BEGIN:VCALENDAR
VERSION:2.0
PRODID:Events Booking
BEGIN:VEVENT
UID:69e4d6df02529
SUMMARY:Bibelstunde
DESCRIPTION:
DTSTART:20260506T173000Z
DTSTAMP:20251213T212115Z
ORGANIZER;CN=EFG Chemnitz:MAILTO:info@efg-chemnitz.de
END:VEVENT
END:VCALENDAR