BEGIN:VCALENDAR
VERSION:2.0
PRODID:Events Booking
BEGIN:VEVENT
UID:69e4c4eac2fa8
SUMMARY:Abschlussgottesdienst Allianz-Gebetswoche  (Lutherkirche\, Zschopau
 er Str. 151)
DESCRIPTION:Gott ist treu -&nbsp\;Unsere Botschaft für die Welt (Ps. 71\,1
 5-16) - Eine Veranstaltung der Evangelischen Allianz Chemnitz
DTSTART:20260118T090000Z
DTSTAMP:20251213T215731Z
ORGANIZER;CN=EFG Chemnitz:MAILTO:info@efg-chemnitz.de
END:VEVENT
END:VCALENDAR